BEGIN:VCALENDAR
VERSION:2.0
PRODID:-//https://www.ifecajerez.com///NONSGML kigkonsult.se iCalcreator 2.10.15//
METHOD:PUBLISH
BEGIN:VEVENT
UID:20260421T195047UTC-9157MioZPG@https://www.ifecajerez.com/
DTSTAMP:20260421T195047Z
DESCRIPTION: https://www.ifecajerez.com/component/rseventspro/evento/24-mot
 orsur-2022?Itemid=101
DTSTART:20221019T220000Z
DTEND:20221022T220000Z
LOCATION:jerez ()
SUMMARY:MOTORSUR 2022
URL:https://www.ifecajerez.com/component/rseventspro/evento/24-motorsur-202
 2?Itemid=101
END:VEVENT
END:VCALENDAR
