BEGIN:VCALENDAR
VERSION:2.0
PRODID:-//https://www.ifecajerez.com///NONSGML kigkonsult.se iCalcreator 2.10.15//
METHOD:PUBLISH
BEGIN:VEVENT
UID:20260424T083653UTC-49745Z6Ufh@https://www.ifecajerez.com/
DTSTAMP:20260424T083653Z
DESCRIPTION: https://www.ifecajerez.com/component/rseventspro/evento/18-2-f
 eria-de-deporte-y-vida-sana-2022?Itemid=101
DTSTART:20221118T100000Z
DTEND:20221120T160000Z
LOCATION:jerez ()
SUMMARY:2ª Feria de Deporte y Vida Sana 2022
URL:https://www.ifecajerez.com/component/rseventspro/evento/18-2-feria-de-d
 eporte-y-vida-sana-2022?Itemid=101
END:VEVENT
END:VCALENDAR
