BEGIN:VCALENDAR
VERSION:2.0
PRODID:-//https://www.ifecajerez.com///NONSGML kigkonsult.se iCalcreator 2.10.15//
METHOD:PUBLISH
BEGIN:VEVENT
UID:20260421T162947UTC-4614AAwpKV@https://www.ifecajerez.com/
DTSTAMP:20260421T162947Z
DESCRIPTION: https://www.ifecajerez.com/component/rseventspro/evento/10-juv
 elandia-2022?Itemid=101
DTSTART:20221219T110000Z
DTEND:20230104T200000Z
LOCATION:jerez ()
SUMMARY:Juvelandia 2022
URL:https://www.ifecajerez.com/component/rseventspro/evento/10-juvelandia-2
 022?Itemid=101
END:VEVENT
END:VCALENDAR
