BEGIN:VCALENDAR
VERSION:2.0
PRODID:-//https://www.ifecajerez.com///NONSGML kigkonsult.se iCalcreator 2.10.15//
METHOD:PUBLISH
BEGIN:VEVENT
UID:20260421T180604UTC-7442iaKLeH@https://www.ifecajerez.com/
DTSTAMP:20260421T180604Z
DESCRIPTION: https://www.ifecajerez.com/component/rseventspro/evento/10-juv
 elandia-2022?Itemid=101
DTSTART:20221219T110000Z
DTEND:20230104T200000Z
LOCATION:jerez ()
SUMMARY:Juvelandia 2022
URL:https://www.ifecajerez.com/component/rseventspro/evento/10-juvelandia-2
 022?Itemid=101
END:VEVENT
BEGIN:VEVENT
UID:20260421T180604UTC-7445waRFSJ@https://www.ifecajerez.com/
DTSTAMP:20260421T180604Z
DESCRIPTION: https://www.ifecajerez.com/component/rseventspro/evento/23-bod
 asur-2022?Itemid=101
DTSTART:20221124T230000Z
DTEND:20221127T101433Z
LOCATION:jerez ()
SUMMARY:Bodasur 2022
URL:https://www.ifecajerez.com/component/rseventspro/evento/23-bodasur-2022
 ?Itemid=101
END:VEVENT
BEGIN:VEVENT
UID:20260421T180604UTC-7446vEZjnL@https://www.ifecajerez.com/
DTSTAMP:20260421T180604Z
DESCRIPTION: https://www.ifecajerez.com/component/rseventspro/evento/72-mon
 taje-salon-manga-jerez-2024?Itemid=101
DTSTART:20240219T230000Z
DTEND:20240223T101504Z
LOCATION:jerez ()
SUMMARY:Montaje SALÓN MANGA JEREZ 2024
URL:https://www.ifecajerez.com/component/rseventspro/evento/72-montaje-salo
 n-manga-jerez-2024?Itemid=101
END:VEVENT
BEGIN:VEVENT
UID:20260421T180604UTC-7448Kc7Imf@https://www.ifecajerez.com/
DTSTAMP:20260421T180604Z
DESCRIPTION: https://www.ifecajerez.com/component/rseventspro/evento/76-mon
 taje-jerez-tatoo-convention-2024?Itemid=101
DTSTART:20240310T230000Z
DTEND:20240314T101504Z
LOCATION:jerez ()
SUMMARY: Montaje JEREZ TATOO CONVENTION 2024
URL:https://www.ifecajerez.com/component/rseventspro/evento/76-montaje-jere
 z-tatoo-convention-2024?Itemid=101
END:VEVENT
BEGIN:VEVENT
UID:20260421T180604UTC-7450V2pzPo@https://www.ifecajerez.com/
DTSTAMP:20260421T180604Z
DESCRIPTION: https://www.ifecajerez.com/component/rseventspro/evento/79-mon
 taje-expotaku-2024?Itemid=101
DTSTART:20240320T230000Z
DTEND:20240321T101504Z
LOCATION:jerez ()
SUMMARY:Montaje EXPOTAKU 2024
URL:https://www.ifecajerez.com/component/rseventspro/evento/79-montaje-expo
 taku-2024?Itemid=101
END:VEVENT
BEGIN:VEVENT
UID:20260421T180604UTC-7451p24XNd@https://www.ifecajerez.com/
DTSTAMP:20260421T180604Z
DESCRIPTION: https://www.ifecajerez.com/component/rseventspro/evento/82-mon
 taje-mangafest-primavera-2024?Itemid=101
DTSTART:20240331T220000Z
DTEND:20240405T091504Z
LOCATION:jerez ()
SUMMARY:Montaje MANGAFEST PRIMAVERA 2024
URL:https://www.ifecajerez.com/component/rseventspro/evento/82-montaje-mang
 afest-primavera-2024?Itemid=101
END:VEVENT
BEGIN:VEVENT
UID:20260421T180604UTC-7453NslEzv@https://www.ifecajerez.com/
DTSTAMP:20260421T180604Z
DESCRIPTION: https://www.ifecajerez.com/component/rseventspro/evento/84-des
 montaje-mangafest-primavera-2024?Itemid=101
DTSTART:20240407T220000Z
DTEND:20240409T091504Z
LOCATION:jerez ()
SUMMARY:Desmontaje MANGAFEST PRIMAVERA 2024
URL:https://www.ifecajerez.com/component/rseventspro/evento/84-desmontaje-m
 angafest-primavera-2024?Itemid=101
END:VEVENT
BEGIN:VEVENT
UID:20260421T180604UTC-7455Pb9zzu@https://www.ifecajerez.com/
DTSTAMP:20260421T180604Z
DESCRIPTION: https://www.ifecajerez.com/component/rseventspro/evento/85-mon
 taje-autocasion-feria-de-ocasion-del-automovil-2024?Itemid=101
DTSTART:20240416T220000Z
DTEND:20240418T091504Z
LOCATION:jerez ()
SUMMARY:Montaje AUTOCASIÓN-FERIA DE OCASIÓN DEL AUTOMÓVIL 2024
URL:https://www.ifecajerez.com/component/rseventspro/evento/85-montaje-auto
 casion-feria-de-ocasion-del-automovil-2024?Itemid=101
END:VEVENT
BEGIN:VEVENT
UID:20260421T180604UTC-7456UWfjLC@https://www.ifecajerez.com/
DTSTAMP:20260421T180604Z
DESCRIPTION: https://www.ifecajerez.com/component/rseventspro/evento/88-con
 greso-privado-2024?Itemid=101
DTSTART:20240611T120606Z
DTEND:20240614T140606Z
LOCATION:jerez ()
SUMMARY:CONGRESO PRIVADO 2024
URL:https://www.ifecajerez.com/component/rseventspro/evento/88-congreso-pri
 vado-2024?Itemid=101
END:VEVENT
BEGIN:VEVENT
UID:20260421T180604UTC-7458ACa2s1@https://www.ifecajerez.com/
DTSTAMP:20260421T180604Z
DESCRIPTION: https://www.ifecajerez.com/component/rseventspro/evento/89-mon
 taje-exposicion-criaturas-jurasicas-2024?Itemid=101
DTSTART:20240904T220000Z
DTEND:20240906T091504Z
LOCATION:jerez ()
SUMMARY:Montaje EXPOSICIÓN CRIATURAS JURÁSICAS 2024
URL:https://www.ifecajerez.com/component/rseventspro/evento/89-montaje-expo
 sicion-criaturas-jurasicas-2024?Itemid=101
END:VEVENT
END:VCALENDAR
