BEGIN:VCALENDAR
VERSION:2.0
PRODID:-//https://www.ifecajerez.com///NONSGML kigkonsult.se iCalcreator 2.10.15//
METHOD:PUBLISH
BEGIN:VEVENT
UID:20260419T134209UTC-9642otwPrh@https://www.ifecajerez.com/
DTSTAMP:20260419T134209Z
DESCRIPTION: https://www.ifecajerez.com/calendario-eventos/evento/8-fegasur
 -2022-feria-de-ganado
DTSTART:20221104T090000Z
DTEND:20221106T160000Z
LOCATION:jerez ()
SUMMARY:Fegasur 2022  Feria de Ganado
URL:https://www.ifecajerez.com/calendario-eventos/evento/8-fegasur-2022-fer
 ia-de-ganado
END:VEVENT
END:VCALENDAR
