BEGIN:VCALENDAR
VERSION:2.0
PRODID:-//https://www.ifecajerez.com///NONSGML kigkonsult.se iCalcreator 2.10.15//
METHOD:PUBLISH
BEGIN:VEVENT
UID:20260419T133213UTC-6437Uf0zBg@https://www.ifecajerez.com/
DTSTAMP:20260419T133213Z
DESCRIPTION: https://www.ifecajerez.com/calendario-eventos/evento/23-bodasu
 r-2022
DTSTART:20221124T230000Z
DTEND:20221127T101433Z
LOCATION:jerez ()
SUMMARY:Bodasur 2022
URL:https://www.ifecajerez.com/calendario-eventos/evento/23-bodasur-2022
END:VEVENT
END:VCALENDAR
