BEGIN:VCALENDAR
VERSION:2.0
PRODID:-//https://www.ifecajerez.com///NONSGML kigkonsult.se iCalcreator 2.10.15//
METHOD:PUBLISH
BEGIN:VEVENT
UID:20260419T163547UTC-3431svIT5R@https://www.ifecajerez.com/
DTSTAMP:20260419T163547Z
DESCRIPTION: https://www.ifecajerez.com/calendario-eventos/evento/5-salon-m
 anga-2022-edicion-otono
DTSTART:20220916T220000Z
DTEND:20220917T220000Z
LOCATION:jerez ()
SUMMARY:Salón Manga 2022 Edición Otoño
URL:https://www.ifecajerez.com/calendario-eventos/evento/5-salon-manga-2022
 -edicion-otono
END:VEVENT
END:VCALENDAR
