BEGIN:VCALENDAR
VERSION:2.0
PRODID:-//https://www.ifecajerez.com///NONSGML kigkonsult.se iCalcreator 2.10.15//
METHOD:PUBLISH
BEGIN:VEVENT
UID:20260419T180433UTC-5165LGxVmr@https://www.ifecajerez.com/
DTSTAMP:20260419T180433Z
DESCRIPTION: https://www.ifecajerez.com/calendario-eventos/evento/22-mercad
 o-andalusi-de-cadiz-2022
DTSTART:20220805T094947Z
DTEND:20220807T114947Z
LOCATION:Cádiz ()
SUMMARY:Mercado Andalusí de Cádiz 2022
URL:https://www.ifecajerez.com/calendario-eventos/evento/22-mercado-andalus
 i-de-cadiz-2022
END:VEVENT
END:VCALENDAR
